BEGIN:VCALENDAR
PRODID:-//eluceo/ical//2.0/EN
VERSION:2.0
CALSCALE:GREGORIAN
BEGIN:VEVENT
UID:47f29716c93058630e83919297ab7133
DTSTAMP:20260420T045133Z
SUMMARY:Vorstellung Rotex - Verein ehemaliger Rotary Austauschschüler
DESCRIPTION:Rotex Schweiz / Liechtenstein ist eine Organisation von ehemali
 gen Austauschschülern zwischen 17-25 Jahren\, welche sich bemüht die Au
 stauschschüler während ihres Austauschjahres zu begleiten. Sie organisi
 eren verschiedene Events\, um den Austauschschülern die Schweiz zu zeigen
 . Ihnen ist der persönliche Kontakt und den Austausch sehr wichtig. Sie
  streben eine Freundschaft an und stehen als Ansprechpersonen zur Verfüg
 ung\, falls irgendwelche kleinere Probleme auftreten sollten. Zudem arbei
 ten sie sehr eng mit Rotary Schweiz / Liechtenstein zusammen und unterst
 ützen bei Rotary Anlässen und Aktivitäten.\nSite internet: http://www.
 rotexchange.ch/\nConférencier(s): Selina Ehrenzeller\, Studentenberaterin
  Rotex und Rotary Austauschschülerin Neuseeland 2012/2013
URL:https://rc-dreilaendereck.ch/fr/agenda/show/57456
DTSTART;TZID=Europe/Zurich:20160419T120000
DTEND;TZID=Europe/Zurich:20160419T120000
LOCATION:Restaurant Schlüsselzunft
CATEGORIES:Rotary
END:VEVENT
BEGIN:VTIMEZONE
TZID:Europe/Zurich
BEGIN:DAYLIGHT
DTSTART:20160419T120000
TZNAME:CEST
TZOFFSETTO:+0200
TZOFFSETFROM:+0200
END:DAYLIGHT
END:VTIMEZONE
END:VCALENDAR
