BEGIN:VCALENDAR
PRODID:-//eluceo/ical//2.0/EN
VERSION:2.0
CALSCALE:GREGORIAN
BEGIN:VEVENT
UID:e9c4b4ffce58ce329f1ff016801a84b9
DTSTAMP:20260420T044822Z
SUMMARY:Nachhaltigkeit bei der NOVARTIS
DESCRIPTION:Conférencier(s): Dr. Jörg Reinhardt\, Präsident des Verwaltu
 ngsrats Novartis
URL:https://rc-dreilaendereck.ch/fr/agenda/show/57448
DTSTART;TZID=Europe/Zurich:20160308T120000
DTEND;TZID=Europe/Zurich:20160308T120000
LOCATION:Restaurant Schlüsselzunft
CATEGORIES:Rotary
END:VEVENT
BEGIN:VTIMEZONE
TZID:Europe/Zurich
BEGIN:STANDARD
DTSTART:20160308T120000
TZNAME:CET
TZOFFSETTO:+0100
TZOFFSETFROM:+0100
END:STANDARD
END:VTIMEZONE
END:VCALENDAR
