BEGIN:VCALENDAR
PRODID:-//eluceo/ical//2.0/EN
VERSION:2.0
CALSCALE:GREGORIAN
BEGIN:VEVENT
UID:c4083dd4e74c14069f05f9424b4a794c
DTSTAMP:20260420T130235Z
SUMMARY:Mein Kunde\, mein Rating – KMU Ratings auf dem Prüfstand
DESCRIPTION:Conférencier(s): Prof. Dr. Simone Westerfeld\, CFO Basler Kant
 onalbank
URL:https://rc-dreilaendereck.ch/fr/agenda/show/55916
DTSTART;TZID=Europe/Zurich:20160105T120000
DTEND;TZID=Europe/Zurich:20160105T120000
LOCATION:Restaurant Schlüsselzunft
CATEGORIES:Rotary
END:VEVENT
BEGIN:VTIMEZONE
TZID:Europe/Zurich
BEGIN:STANDARD
DTSTART:20160105T120000
TZNAME:CET
TZOFFSETTO:+0100
TZOFFSETFROM:+0100
END:STANDARD
END:VTIMEZONE
END:VCALENDAR
