BEGIN:VCALENDAR
PRODID:-//eluceo/ical//2.0/EN
VERSION:2.0
CALSCALE:GREGORIAN
BEGIN:VEVENT
UID:a5cb033c4fdfd1c4480de78b0e5acbe4
DTSTAMP:20260420T133754Z
SUMMARY:Nachhaltigkeit bei der BLT
DESCRIPTION:Site internet: http://www.blt.ch\nConférencier(s): Andreas Bü
 ttiker\, Direktor
URL:https://rc-dreilaendereck.ch/fr/agenda/show/54252
DTSTART;TZID=Europe/Zurich:20150915T120000
DTEND;TZID=Europe/Zurich:20150915T120000
LOCATION:Restaurant Schlüsselzunft
CATEGORIES:Rotary
END:VEVENT
BEGIN:VTIMEZONE
TZID:Europe/Zurich
BEGIN:DAYLIGHT
DTSTART:20150915T120000
TZNAME:CEST
TZOFFSETTO:+0200
TZOFFSETFROM:+0200
END:DAYLIGHT
END:VTIMEZONE
END:VCALENDAR
