BEGIN:VCALENDAR
PRODID:-//eluceo/ical//2.0/EN
VERSION:2.0
CALSCALE:GREGORIAN
BEGIN:VEVENT
UID:e814c5a78d0765bc1bc2b29ecbc2822b
DTSTAMP:20260420T125737Z
SUMMARY:Sternennacht in Witterswil - Partneranlass
DESCRIPTION:Ein Meer von 1000 Sternen\nJedes Jahr verzaubert die Sternennac
 ht in der Gärtnerei Allemann aufs Neue. Weihnachtssterne in den untersch
 iedlichsten Farbtönen und Wuchshöhen begrüssen uns bei einer Sonderfüh
 rung im stilvollen Ambiente\, um uns auf die Adventszeit einzustimmen.\
 n\nRolf Allemann führt uns durch die Sternennacht seiner Gärtnerei und 
 erklärt was für ihn das Thema Nachhaltigkeit bedeutet.\n\nDer Apéro ri
 che wird gesponsert und der gesamte gesammelte Betrag geht an POLIO PLUS.
 \n\nProgramm\n18.45 – 19.00 Uhr Eintreffen der Gäste\n19.00 – 20.00
  Uhr  Führung\nca. 20.00 Uhr Apero riche\n\nDie Kosten belaufen sich 
 auf Fr. 25.— pro Person\n\nBitte um An- oder Abmeldung bis am 20.11.15 
 \nSite internet: http://www.gaertnerei-allemann.ch/\nConférencier(s): Rol
 f Allemann\, Inhaber Gärtnerei Allemann
URL:https://rc-dreilaendereck.ch/fr/agenda/show/53780
DTSTART;TZID=Europe/Zurich:20151126T184500
DTEND;TZID=Europe/Zurich:20151126T184500
LOCATION:Gärtnerei Allemann\, Benkenstr. 266\, 4108 Witterswil
CATEGORIES:Rotary
END:VEVENT
BEGIN:VTIMEZONE
TZID:Europe/Zurich
BEGIN:STANDARD
DTSTART:20151126T184500
TZNAME:CET
TZOFFSETTO:+0100
TZOFFSETFROM:+0100
END:STANDARD
END:VTIMEZONE
END:VCALENDAR
