BEGIN:VCALENDAR
PRODID:-//eluceo/ical//2.0/EN
VERSION:2.0
CALSCALE:GREGORIAN
BEGIN:VEVENT
UID:c4ce5b8c412b8a70110940596e2b9cae
DTSTAMP:20260420T125326Z
SUMMARY:Hintergründe - Benefizkonzert Rotaract
DESCRIPTION:Am 21. September ist es endlich so weit und das Benefizkonzert 
 des Rotaract Clubs Basel geht nach längerer Pause in die vierte Runde. Na
 ch drei sehr erfolgreichen Benefizkonzerten zugunsten von ShelterBox haben
  wir uns entschieden dieses Jahr eine lokale Organisation zu unterstützen
  – die Gassenküche Basel.\n\nDoch abgesehen von der finanziellen Unters
 tützung für die Gassenküche wollen wir mit dem diesjährigen Benefizko
 nzert auch den Dialog zwischen den Gesellschaftsschichten und damit das B
 ewusstsein für die Probleme der Randständigen in der Gesellschaft förde
 rn. Deshalb bieten wir in Zusammenarbeit mit dem Strassenmagazin Surprise 
 vor dem Benefizkonzert zwei „sozial Stadtrundgänge“ an. Dabei handelt
  es sich um von Betroffenen geführte Stadtrundgänge zu den diversen sozi
 alen Institutionen in Basel. Die rund zweistündigen Stadtrundgänge start
 en um 13.30  und 14.00 Uhr beim Portal der Theodorskirche.\n\nUm 17.00 Uh
 r beginnt dann in der Predigerkirche Basel (Totentanz 19\, 4051 Basel) das
  eigentliche  Benefizkonzert des Alieksey Vianna – Stephan Kurmann Duos
 . Stephan Kurmann ist als Gründer und  Leiter des Basler Jazz Clubs Bird
 `s Eye und dank seinen diversen Live Auftritten bereits eine bekannte  Gr
 össe in der Basler Jazzszene. Er wird von Alieksey Vianna\, einem brasili
 anischen Gitarrenvirtuosen\, auf der akustischen Gitarre begleitet. Im Ans
 chluss an das circa einstündige Konzert wird es wie gewohnt einen reichha
 ltigen Apéro geben.\n\nTickets für das Benefizkonzert und die Stadtrundg
 änge können per Mail an tickets@rotaract-basel.ch bestellt werden. Die T
 ickets für das Benefizkonzert kosten im Vorverkauf CHF 30.00 (Jugendliche
  und  Studenten CHF 20.00) und die Tickets für den Stadtrundgang kosten 
 CHF 15.00. Weitere Infos zum gesamten Programm finden Sie auf unserer Home
 page www.rotaract-basel.ch.\nSite internet: http://www.rotaract-basel.ch\n
 Conférencier(s): Luca Dressino
URL:https://rc-dreilaendereck.ch/fr/agenda/show/41788
DTSTART;TZID=Europe/Zurich:20140916T120000
DTEND;TZID=Europe/Zurich:20140916T120000
LOCATION:Restaurant Schlüsselzunft
CATEGORIES:Rotary
END:VEVENT
BEGIN:VTIMEZONE
TZID:Europe/Zurich
BEGIN:DAYLIGHT
DTSTART:20140916T120000
TZNAME:CEST
TZOFFSETTO:+0200
TZOFFSETFROM:+0200
END:DAYLIGHT
END:VTIMEZONE
END:VCALENDAR
