BEGIN:VCALENDAR
PRODID:-//eluceo/ical//2.0/EN
VERSION:2.0
CALSCALE:GREGORIAN
BEGIN:VEVENT
UID:93aac12ef1bef97bd843c5ca666c3501
DTSTAMP:20260424T165154Z
SUMMARY:Rundgang im Allschwiler Wald
DESCRIPTION:Conférencier(s): Rundgang mit Förster Markus LackTreffpunkt: 
 Restaurant Spitzwald
URL:https://rc-dreilaendereck.ch/fr/agenda/show/170508
DTSTART;TZID=Europe/Zurich:20240418T183000
DTEND;TZID=Europe/Zurich:20240418T220000
LOCATION:Allschwiler Wald
CATEGORIES:Rotary
END:VEVENT
BEGIN:VTIMEZONE
TZID:Europe/Zurich
BEGIN:DAYLIGHT
DTSTART:20240418T183000
TZNAME:CEST
TZOFFSETTO:+0200
TZOFFSETFROM:+0200
END:DAYLIGHT
END:VTIMEZONE
END:VCALENDAR
