BEGIN:VCALENDAR
PRODID:-//eluceo/ical//2.0/EN
VERSION:2.0
CALSCALE:GREGORIAN
BEGIN:VEVENT
UID:930ebb1953a31141db71b9e4f130fdfa
DTSTAMP:20260423T080957Z
SUMMARY:Vortrag 'Ingenieur und Architekt'
DESCRIPTION:Site internet: https://www.schnetzerpuskas.com/de.html\nConfér
 encier(s): Herr Giotto Messi\, Bauingenieur
URL:https://rc-dreilaendereck.ch/fr/agenda/show/142407
DTSTART;TZID=Europe/Zurich:20220621T121500
DTEND;TZID=Europe/Zurich:20220621T133000
LOCATION:Restaurant Schlüsselzunft\, Freie Strasse 25\, 4001 Basel
CATEGORIES:Rotary
END:VEVENT
BEGIN:VTIMEZONE
TZID:Europe/Zurich
BEGIN:DAYLIGHT
DTSTART:20220621T121500
TZNAME:CEST
TZOFFSETTO:+0200
TZOFFSETFROM:+0200
END:DAYLIGHT
END:VTIMEZONE
END:VCALENDAR
