BEGIN:VCALENDAR
PRODID:-//eluceo/ical//2.0/EN
VERSION:2.0
CALSCALE:GREGORIAN
BEGIN:VEVENT
UID:a7d8108134b3e79b7d2badf82b5ff39c
DTSTAMP:20260421T200445Z
SUMMARY:Partneranlass 'Abendführung über den Landskronberg'
DESCRIPTION:Site internet: http://nature3.ch\nConférencier(s): Herr Lukas 
 Merkelbach\, Präsident 'nature3'
URL:https://rc-dreilaendereck.ch/fr/agenda/show/139740
DTSTART;TZID=Europe/Zurich:20220608T180000
DTEND;TZID=Europe/Zurich:20220608T203000
LOCATION:Landskronberg
CATEGORIES:Rotary
END:VEVENT
BEGIN:VTIMEZONE
TZID:Europe/Zurich
BEGIN:DAYLIGHT
DTSTART:20220608T180000
TZNAME:CEST
TZOFFSETTO:+0200
TZOFFSETFROM:+0200
END:DAYLIGHT
END:VTIMEZONE
END:VCALENDAR
