BEGIN:VCALENDAR
PRODID:-//eluceo/ical//2.0/EN
VERSION:2.0
CALSCALE:GREGORIAN
BEGIN:VEVENT
UID:75060d67a0548dc080dff5a23a7d980d
DTSTAMP:20260421T200757Z
SUMMARY:Tischgespräche
DESCRIPTION:Site internet: http://schluesselzunft.ch
URL:https://rc-dreilaendereck.ch/fr/agenda/show/139626
DTSTART;TZID=Europe/Zurich:20220419T121500
DTEND;TZID=Europe/Zurich:20220419T133000
LOCATION:Restaurant Schlüsselzunft\, Freie Strasse 25\, 4001 Basel
CATEGORIES:Rotary
END:VEVENT
BEGIN:VTIMEZONE
TZID:Europe/Zurich
BEGIN:DAYLIGHT
DTSTART:20220419T121500
TZNAME:CEST
TZOFFSETTO:+0200
TZOFFSETFROM:+0200
END:DAYLIGHT
END:VTIMEZONE
END:VCALENDAR
