BEGIN:VCALENDAR
PRODID:-//eluceo/ical//2.0/EN
VERSION:2.0
CALSCALE:GREGORIAN
BEGIN:VEVENT
UID:fcb68ae7494e3b02d3425ce502b3f007
DTSTAMP:20260421T200624Z
SUMMARY:Mitgliederversammlung
DESCRIPTION:Site internet: http://schluesselzunft.ch/
URL:https://rc-dreilaendereck.ch/fr/agenda/show/136125
DTSTART;TZID=Europe/Zurich:20220607T110000
DTEND;TZID=Europe/Zurich:20220607T123000
LOCATION:Restaurant Schlüsselzunft\, Freie Strasse 25\, 4001 Basel
CATEGORIES:Rotary
END:VEVENT
BEGIN:VTIMEZONE
TZID:Europe/Zurich
BEGIN:DAYLIGHT
DTSTART:20220607T110000
TZNAME:CEST
TZOFFSETTO:+0200
TZOFFSETFROM:+0200
END:DAYLIGHT
END:VTIMEZONE
END:VCALENDAR
