BEGIN:VCALENDAR
PRODID:-//eluceo/ical//2.0/EN
VERSION:2.0
CALSCALE:GREGORIAN
BEGIN:VEVENT
UID:6d0e71444c759674d47232c1617466b6
DTSTAMP:20260424T071007Z
SUMMARY:Partneranlass 'Führung Claraturm mit Abendessen im Restaurant Boo'
DESCRIPTION:Site internet: https://www.claraturm.ch/homepage\nConférencier
 (s): Herr Christoph Grether\, Projektleiter und Herr Daniel Brüllmann\, L
 eiter Immobilien Schweiz\, UBS Asset Management
URL:https://rc-dreilaendereck.ch/fr/agenda/show/132881
DTSTART;TZID=Europe/Zurich:20211001T180000
DTEND;TZID=Europe/Zurich:20211001T210000
LOCATION:Claratum\, Riehenring 65\, 4058 Basel
CATEGORIES:Rotary
END:VEVENT
BEGIN:VTIMEZONE
TZID:Europe/Zurich
BEGIN:DAYLIGHT
DTSTART:20211001T180000
TZNAME:CEST
TZOFFSETTO:+0200
TZOFFSETFROM:+0200
END:DAYLIGHT
END:VTIMEZONE
END:VCALENDAR
