BEGIN:VCALENDAR
PRODID:-//eluceo/ical//2.0/EN
VERSION:2.0
CALSCALE:GREGORIAN
BEGIN:VEVENT
UID:1ab33c86dcb9e2b19256214269699344
DTSTAMP:20260424T070816Z
SUMMARY:Film Uganda
DESCRIPTION:Site internet: https://www.stadtkinobasel.ch/\nConférencier(s)
 : Im Oktober 2019 haben vier Mitglieder unseres Clubs das Ärzteteam unser
 er Rotarierin Prof. Verena Geissbühler nach Uganda begleitet\; über den 
 10 tägigen Einsatz im Bwindi Community Hospital im Südwesten von Uganda 
 ist ein Dokumentarfilm entstanden. Wegen der Covid-19 Pandemie konnte er 2
 020 nicht gezeigt werden.  Sehen Sie hier den Film auf Deutsch https://v
 imeo.com/496211622/41fd2a2966 und auf Englisch: https://vimeo.com/576661
 457
URL:https://rc-dreilaendereck.ch/fr/agenda/show/130217
DTSTART;TZID=Europe/Zurich:20210928T190000
DTEND;TZID=Europe/Zurich:20210928T200000
LOCATION:.
CATEGORIES:Rotary
END:VEVENT
BEGIN:VTIMEZONE
TZID:Europe/Zurich
BEGIN:DAYLIGHT
DTSTART:20210928T190000
TZNAME:CEST
TZOFFSETTO:+0200
TZOFFSETFROM:+0200
END:DAYLIGHT
END:VTIMEZONE
END:VCALENDAR
