BEGIN:VCALENDAR
PRODID:-//eluceo/ical//2.0/EN
VERSION:2.0
CALSCALE:GREGORIAN
BEGIN:VEVENT
UID:0c5aa458a039c9343b5ef8538ff2b3f1
DTSTAMP:20260424T114319Z
SUMMARY:Es findet KEIN Mittagessen statt!!!
DESCRIPTION:
URL:https://rc-dreilaendereck.ch/es/agenda/show/76589
DTSTART;TZID=Europe/Zurich:20171226T120000
DTEND;TZID=Europe/Zurich:20171226T120000
LOCATION:Restaurant Schlüsselzunft\, Freie Strasse 25\, 4001 Basel 
CATEGORIES:Rotary
END:VEVENT
BEGIN:VTIMEZONE
TZID:Europe/Zurich
BEGIN:STANDARD
DTSTART:20171226T120000
TZNAME:CET
TZOFFSETTO:+0100
TZOFFSETFROM:+0100
END:STANDARD
END:VTIMEZONE
END:VCALENDAR
