BEGIN:VCALENDAR
PRODID:-//eluceo/ical//2.0/EN
VERSION:2.0
CALSCALE:GREGORIAN
BEGIN:VEVENT
UID:a2e23311e8723619dc196f536f0c5686
DTSTAMP:20260420T102844Z
SUMMARY:Referat Jeffrey Schmidt
DESCRIPTION:
URL:https://rc-dreilaendereck.ch/es/agenda/show/73290
DTSTART;TZID=Europe/Zurich:20170509T120000
DTEND;TZID=Europe/Zurich:20170509T140000
LOCATION:Restaurant Schlüsselzunft
CATEGORIES:Rotary
END:VEVENT
BEGIN:VTIMEZONE
TZID:Europe/Zurich
BEGIN:DAYLIGHT
DTSTART:20170509T120000
TZNAME:CEST
TZOFFSETTO:+0200
TZOFFSETFROM:+0200
END:DAYLIGHT
END:VTIMEZONE
END:VCALENDAR
