BEGIN:VCALENDAR
PRODID:-//eluceo/ical//2.0/EN
VERSION:2.0
CALSCALE:GREGORIAN
BEGIN:VEVENT
UID:5bfa6d79121de240c1f904e740600ca9
DTSTAMP:20260425T012952Z
SUMMARY:Stiftung RADUGA
DESCRIPTION:Sitio web: http://www.raduga-stiftung.com\nOrador(es): Jörg Du
 ss\, Projektleiter
URL:https://rc-dreilaendereck.ch/es/agenda/show/55913
DTSTART;TZID=Europe/Zurich:20151020T120000
DTEND;TZID=Europe/Zurich:20151020T120000
LOCATION:Restaurant Schlüsselzunft
CATEGORIES:Rotary
END:VEVENT
BEGIN:VTIMEZONE
TZID:Europe/Zurich
BEGIN:DAYLIGHT
DTSTART:20151020T120000
TZNAME:CEST
TZOFFSETTO:+0200
TZOFFSETFROM:+0200
END:DAYLIGHT
END:VTIMEZONE
END:VCALENDAR
