BEGIN:VCALENDAR
PRODID:-//eluceo/ical//2.0/EN
VERSION:2.0
CALSCALE:GREGORIAN
BEGIN:VEVENT
UID:14c81d4cddb0128e2ebc6ea42cc84212
DTSTAMP:20260425T012527Z
SUMMARY:Entlang der Seidenstrasse - Partneranlass
DESCRIPTION:Zwei fantastische Monate waren Laura und Stephan auf der Grea
 t Silk Road Expedition. Es war eine geführte Reise mit 4 Jeeps (Teilnehme
 r als Selbstfahrer) von Beijing in die Schweiz. Sie reisten durch Nordchi
 na\, die Mongolei\, Russland\, Kasachstan\, Usbekistan\, Turkmenistan\, Ir
 an\, Türkei\, Griechenland und Italien. Die Reise entlang der Seidenstr
 asse dauerte 8 Wochen. Sie haben 17‘000 km zurückgelegt und sind vollg
 epackt mit Eindrücken und schönen Erlebnissen und Erfahrungen zurück ge
 kommen.\n\nWir freuen uns\, euch und euren Partner/innen und Gästen einen
  Einblick in diese tolle Reise zu geben.\n\nBitte um An- oder Abmeldung b
 is am 15.10.15 \n\nProgramm\nAb 18.15 Uhr            Eintreffen d
 er Gäste \n18.30 – 20.00 Uhr    Photo-Show / Vortrag \nCa. 20.00 
 Uhr           Apero riche\n\nDie Kosten belaufen sich auf Fr. 25.— 
 pro Person\nOrador(es): Stephan Bachmann
URL:https://rc-dreilaendereck.ch/es/agenda/show/53719
DTSTART;TZID=Europe/Zurich:20151019T181500
DTEND;TZID=Europe/Zurich:20151019T181500
LOCATION:REHAB Basel\, im Burgfelderhof 40\, 4012 Basel
CATEGORIES:Rotary
END:VEVENT
BEGIN:VTIMEZONE
TZID:Europe/Zurich
BEGIN:DAYLIGHT
DTSTART:20151019T181500
TZNAME:CEST
TZOFFSETTO:+0200
TZOFFSETFROM:+0200
END:DAYLIGHT
END:VTIMEZONE
END:VCALENDAR
