BEGIN:VCALENDAR
PRODID:-//eluceo/ical//2.0/EN
VERSION:2.0
CALSCALE:GREGORIAN
BEGIN:VEVENT
UID:c20dbfd4af4eb21da56d0e1fcbc67449
DTSTAMP:20260425T130212Z
SUMMARY:Jungunternehmerpreis
DESCRIPTION:Orador(es): Christian Wyss
URL:https://rc-dreilaendereck.ch/es/agenda/show/44432
DTSTART;TZID=Europe/Zurich:20141028T120000
DTEND;TZID=Europe/Zurich:20141028T120000
LOCATION:Restaurant Schlüsselzunft
CATEGORIES:Rotary
END:VEVENT
BEGIN:VTIMEZONE
TZID:Europe/Zurich
BEGIN:STANDARD
DTSTART:20141028T120000
TZNAME:CET
TZOFFSETTO:+0100
TZOFFSETFROM:+0100
END:STANDARD
END:VTIMEZONE
END:VCALENDAR
