BEGIN:VCALENDAR
PRODID:-//eluceo/ical//2.0/EN
VERSION:2.0
CALSCALE:GREGORIAN
BEGIN:VEVENT
UID:682e361d9bb33f7413b30e15b9f38cb0
DTSTAMP:20260419T224913Z
SUMMARY:Silvester - Kein Meeting!
DESCRIPTION:Wir wünschen allen ein glückliches und gesundes Jahr 2014!
URL:https://rc-dreilaendereck.ch/es/agenda/show/36624
DTSTART;TZID=Europe/Zurich:20131231T000000
DTEND;TZID=Europe/Zurich:20131231T000000
LOCATION:-
CATEGORIES:Rotary
END:VEVENT
BEGIN:VTIMEZONE
TZID:Europe/Zurich
BEGIN:STANDARD
DTSTART:20131231T000000
TZNAME:CET
TZOFFSETTO:+0100
TZOFFSETFROM:+0100
END:STANDARD
END:VTIMEZONE
END:VCALENDAR
