BEGIN:VCALENDAR
PRODID:-//eluceo/ical//2.0/EN
VERSION:2.0
CALSCALE:GREGORIAN
BEGIN:VEVENT
UID:e9517d947133ed7fe1b47f132d87f9b6
DTSTAMP:20260424T200425Z
SUMMARY: Soup & Chill\,  die Wärmestube für Menschen\, die kein eigenes W
 ohnzimmer haben. 
DESCRIPTION:Sitio web: http://www.claudiaadrario.ch/soup-chill/\nOrador(es)
 : Dr. Claudia Adrario
URL:https://rc-dreilaendereck.ch/es/agenda/show/36445
DTSTART;TZID=Europe/Zurich:20140304T120000
DTEND;TZID=Europe/Zurich:20140304T140000
LOCATION:Restaurant Schlüsselzunft
CATEGORIES:Rotary
END:VEVENT
BEGIN:VTIMEZONE
TZID:Europe/Zurich
BEGIN:STANDARD
DTSTART:20140304T120000
TZNAME:CET
TZOFFSETTO:+0100
TZOFFSETFROM:+0100
END:STANDARD
END:VTIMEZONE
END:VCALENDAR
