BEGIN:VCALENDAR
PRODID:-//eluceo/ical//2.0/EN
VERSION:2.0
CALSCALE:GREGORIAN
BEGIN:VEVENT
UID:5d72c7a6d93ae1b735288da1088a59e6
DTSTAMP:20260424T233705Z
SUMMARY:Plauderlunch
DESCRIPTION:
URL:https://rc-dreilaendereck.ch/es/agenda/show/36443
DTSTART;TZID=Europe/Zurich:20140225T120000
DTEND;TZID=Europe/Zurich:20140225T140000
LOCATION:Restaurant Schlüsselzunft
CATEGORIES:Rotary
END:VEVENT
BEGIN:VTIMEZONE
TZID:Europe/Zurich
BEGIN:STANDARD
DTSTART:20140225T120000
TZNAME:CET
TZOFFSETTO:+0100
TZOFFSETFROM:+0100
END:STANDARD
END:VTIMEZONE
END:VCALENDAR
