BEGIN:VCALENDAR
PRODID:-//eluceo/ical//2.0/EN
VERSION:2.0
CALSCALE:GREGORIAN
BEGIN:VEVENT
UID:dcbcfb449a7c90e16d2c3f456053fa26
DTSTAMP:20260420T023818Z
SUMMARY:Emanuel Jenni - Aus dem Leben eines Diplomaten
DESCRIPTION:
URL:https://rc-dreilaendereck.ch/es/agenda/show/36437
DTSTART;TZID=Europe/Zurich:20140204T120000
DTEND;TZID=Europe/Zurich:20140204T140000
LOCATION:Restaurant Schlüsselzunft
CATEGORIES:Rotary
END:VEVENT
BEGIN:VTIMEZONE
TZID:Europe/Zurich
BEGIN:STANDARD
DTSTART:20140204T120000
TZNAME:CET
TZOFFSETTO:+0100
TZOFFSETFROM:+0100
END:STANDARD
END:VTIMEZONE
END:VCALENDAR
