BEGIN:VCALENDAR
PRODID:-//eluceo/ical//2.0/EN
VERSION:2.0
CALSCALE:GREGORIAN
BEGIN:VEVENT
UID:25c4cd8d4f82a875dd65ede25224006d
DTSTAMP:20260423T200314Z
SUMMARY:Das Wunder von Russland
DESCRIPTION:Referat Jörg Duss (über das Projekt in der Ukraine\, initiier
 t von Stephan Benz)\nOrador(es): Jörg Duss
URL:https://rc-dreilaendereck.ch/es/agenda/show/26406
DTSTART;TZID=Europe/Zurich:20121120T120000
DTEND;TZID=Europe/Zurich:20121120T140000
LOCATION:Restaurant Schlüsselzunft
CATEGORIES:Rotary
END:VEVENT
BEGIN:VTIMEZONE
TZID:Europe/Zurich
BEGIN:STANDARD
DTSTART:20121120T120000
TZNAME:CET
TZOFFSETTO:+0100
TZOFFSETFROM:+0100
END:STANDARD
END:VTIMEZONE
END:VCALENDAR
