BEGIN:VCALENDAR
PRODID:-//eluceo/ical//2.0/EN
VERSION:2.0
CALSCALE:GREGORIAN
BEGIN:VEVENT
UID:bd8f2e5f7beace8802bdca97bc8e93a4
DTSTAMP:20260423T195954Z
SUMMARY:Internationales Projekt: Uganda - Bwindi Community Hospital
DESCRIPTION:Auf Initiative und unter der Leitung von unserem Mitglied Rotar
 ierin Verena Geissbühler wird vom 22. bis 26. Oktober im Bwindi Community
  Hospital ein spezielles Fistula-Surgical-Camp mit einem Schweizer Team du
 rchgeführt. Zusätzlich wird vom RC Basel Dreiländereck vor Ort ein Gori
 lla Tracking im Bwindi National Park Uganda sowie der Besuch des Queen Eli
 zabeth NP und ein chimp tracking in Kibale Forest NP bis 31. Oktober 2012 
 organisiert. Unterstützung für den Einsatz im Bwindi Hospital ist herzli
 ch willkommen!  Spenden können eingezahlt werden auf das Konto Frau Dr. V
 erena Geissbuehler Bank Julius Baer & Co. AG Service Center 8010 Zürich K
 onto: CH97 0851 5030 8823 0200 8
URL:https://rc-dreilaendereck.ch/es/agenda/show/23000
DTSTART;TZID=Europe/Zurich:20121018T000000
DTEND;TZID=Europe/Zurich:20121031T000000
LOCATION:Bwindi - Uganda
CATEGORIES:Rotary
END:VEVENT
BEGIN:VTIMEZONE
TZID:Europe/Zurich
BEGIN:DAYLIGHT
DTSTART:20121018T000000
TZNAME:CEST
TZOFFSETTO:+0200
TZOFFSETFROM:+0200
END:DAYLIGHT
BEGIN:STANDARD
DTSTART:20121028T020000
TZNAME:CET
TZOFFSETTO:+0100
TZOFFSETFROM:+0200
END:STANDARD
END:VTIMEZONE
END:VCALENDAR
