BEGIN:VCALENDAR
PRODID:-//eluceo/ical//2.0/EN
VERSION:2.0
CALSCALE:GREGORIAN
BEGIN:VEVENT
UID:ed84b49bb8dc05ac273cfbcd4f846dcb
DTSTAMP:20260423T181636Z
SUMMARY:Nachhaltiges Evangelium - Historische Entwicklung
DESCRIPTION:Aktuelle Aufgaben und zukünftige Herausforderung der Kirche im
  Baselbiet aus Sicht eines Pfarrers
URL:https://rc-dreilaendereck.ch/es/agenda/show/19331
DTSTART;TZID=Europe/Zurich:20111025T120000
DTEND;TZID=Europe/Zurich:20111025T140000
LOCATION:Restaurant Schlüsselzunft
CATEGORIES:Rotary
END:VEVENT
BEGIN:VTIMEZONE
TZID:Europe/Zurich
BEGIN:DAYLIGHT
DTSTART:20111025T120000
TZNAME:CEST
TZOFFSETTO:+0200
TZOFFSETFROM:+0200
END:DAYLIGHT
END:VTIMEZONE
END:VCALENDAR
