BEGIN:VCALENDAR
PRODID:-//eluceo/ical//2.0/EN
VERSION:2.0
CALSCALE:GREGORIAN
BEGIN:VEVENT
UID:bb9de8e4ab91bab16e2b20038912372b
DTSTAMP:20260423T212312Z
SUMMARY:Plauderlunch
DESCRIPTION:
URL:https://rc-dreilaendereck.ch/es/agenda/show/19288
DTSTART;TZID=Europe/Zurich:20110927T120000
DTEND;TZID=Europe/Zurich:20110927T140000
LOCATION:Restaurant Schlüsselzunft
CATEGORIES:Rotary
END:VEVENT
BEGIN:VTIMEZONE
TZID:Europe/Zurich
BEGIN:DAYLIGHT
DTSTART:20110927T120000
TZNAME:CEST
TZOFFSETTO:+0200
TZOFFSETFROM:+0200
END:DAYLIGHT
END:VTIMEZONE
END:VCALENDAR
