BEGIN:VCALENDAR
PRODID:-//eluceo/ical//2.0/EN
VERSION:2.0
CALSCALE:GREGORIAN
BEGIN:VEVENT
UID:e6a1acc6e7a8def8ba0f4935ab93a561
DTSTAMP:20260424T054912Z
SUMMARY:Plauderlunch
DESCRIPTION:Sitio web: http://schluesselzunft.ch/\nOrador(es): 
URL:https://rc-dreilaendereck.ch/es/agenda/show/158924
DTSTART;TZID=Europe/Zurich:20231003T121500
DTEND;TZID=Europe/Zurich:20231003T133000
LOCATION:Restaurant Schlüsselzunft\, Freie Strasse 25\, 4001 Basel
CATEGORIES:Rotary
END:VEVENT
BEGIN:VTIMEZONE
TZID:Europe/Zurich
BEGIN:DAYLIGHT
DTSTART:20231003T121500
TZNAME:CEST
TZOFFSETTO:+0200
TZOFFSETFROM:+0200
END:DAYLIGHT
END:VTIMEZONE
END:VCALENDAR
