BEGIN:VCALENDAR
PRODID:-//eluceo/ical//2.0/EN
VERSION:2.0
CALSCALE:GREGORIAN
BEGIN:VEVENT
UID:671b5799e5e7fdfa107be6d9becaf4a6
DTSTAMP:20260424T053931Z
SUMMARY:Plauderlunch
DESCRIPTION:Sitio web: http://schluesselzunft.ch/\nOrador(es): 
URL:https://rc-dreilaendereck.ch/es/agenda/show/158920
DTSTART;TZID=Europe/Zurich:20230905T121500
DTEND;TZID=Europe/Zurich:20230905T133000
LOCATION:Restaurant Schlüsselzunft\, Freie Strasse 25\, 4001 Basel
CATEGORIES:Rotary
END:VEVENT
BEGIN:VTIMEZONE
TZID:Europe/Zurich
BEGIN:DAYLIGHT
DTSTART:20230905T121500
TZNAME:CEST
TZOFFSETTO:+0200
TZOFFSETFROM:+0200
END:DAYLIGHT
END:VTIMEZONE
END:VCALENDAR
