BEGIN:VCALENDAR
PRODID:-//eluceo/ical//2.0/EN
VERSION:2.0
CALSCALE:GREGORIAN
BEGIN:VEVENT
UID:9cf4934a7107f46e702df673f61840d0
DTSTAMP:20260424T212054Z
SUMMARY:Partneranlass: 'kleinbasel by Tanja Klein\, Modeapéro und Atelierf
 ührung'
DESCRIPTION:Sitio web: https://kleinbasel.net/
URL:https://rc-dreilaendereck.ch/es/agenda/show/134941
DTSTART;TZID=Europe/Zurich:20220428T183000
DTEND;TZID=Europe/Zurich:20220428T213000
LOCATION:Boutique klein basel by Tanja Klein\, Schneidergasse 24\, 4051 Bas
 el
CATEGORIES:Rotary
END:VEVENT
BEGIN:VTIMEZONE
TZID:Europe/Zurich
BEGIN:DAYLIGHT
DTSTART:20220428T183000
TZNAME:CEST
TZOFFSETTO:+0200
TZOFFSETFROM:+0200
END:DAYLIGHT
END:VTIMEZONE
END:VCALENDAR
