BEGIN:VCALENDAR
PRODID:-//eluceo/ical//2.0/EN
VERSION:2.0
CALSCALE:GREGORIAN
BEGIN:VEVENT
UID:9aca2f73fbb5acfa7389bd7332b600a2
DTSTAMP:20260423T184005Z
SUMMARY:Ski-Weekend 17.- 20.03.2022
DESCRIPTION:Sitio web: https://www.zermatt.ch/
URL:https://rc-dreilaendereck.ch/es/agenda/show/134939
DTSTART;TZID=Europe/Zurich:20220317T180000
DTEND;TZID=Europe/Zurich:20220320T180000
LOCATION:Zermatt
CATEGORIES:Rotary
END:VEVENT
BEGIN:VTIMEZONE
TZID:Europe/Zurich
BEGIN:STANDARD
DTSTART:20220317T180000
TZNAME:CET
TZOFFSETTO:+0100
TZOFFSETFROM:+0100
END:STANDARD
END:VTIMEZONE
END:VCALENDAR
