BEGIN:VCALENDAR
PRODID:-//eluceo/ical//2.0/EN
VERSION:2.0
CALSCALE:GREGORIAN
BEGIN:VEVENT
UID:5f2460b777a4af5216176d747c12a2dc
DTSTAMP:20260424T212524Z
SUMMARY:Partneranlass «Dreiländer-Museum Lörrach mit Felix R. von Rohr»
DESCRIPTION:Sitio web: https://www.dreilaendermuseum.eu/willkommen\nOrador(
 es): Herr Felix Rudolph von Rohr
URL:https://rc-dreilaendereck.ch/es/agenda/show/134936
DTSTART;TZID=Europe/Zurich:20220407T170000
DTEND;TZID=Europe/Zurich:20220407T210000
LOCATION:Dreiländermuseum Lörrach
CATEGORIES:Rotary
END:VEVENT
BEGIN:VTIMEZONE
TZID:Europe/Zurich
BEGIN:DAYLIGHT
DTSTART:20220407T170000
TZNAME:CEST
TZOFFSETTO:+0200
TZOFFSETFROM:+0200
END:DAYLIGHT
END:VTIMEZONE
END:VCALENDAR
