BEGIN:VCALENDAR
PRODID:-//eluceo/ical//2.0/EN
VERSION:2.0
CALSCALE:GREGORIAN
BEGIN:VEVENT
UID:44879eb29de3563a0459bf125d318c4d
DTSTAMP:20260423T041546Z
SUMMARY:Besuch Partnerclub Berlin
DESCRIPTION:Vortrag zum Thema "Wie der Enkel seine Grossmutter erkennt"\nSp
 eaker(s): Prof. Peter Marx
URL:https://rc-dreilaendereck.ch/en/agenda/show/35543
DTSTART;TZID=Europe/Zurich:20131119T120000
DTEND;TZID=Europe/Zurich:20131119T140000
LOCATION:Restaurant Schlüsselzunft
CATEGORIES:Rotary
END:VEVENT
BEGIN:VTIMEZONE
TZID:Europe/Zurich
BEGIN:STANDARD
DTSTART:20131119T120000
TZNAME:CET
TZOFFSETTO:+0100
TZOFFSETFROM:+0100
END:STANDARD
END:VTIMEZONE
END:VCALENDAR
