BEGIN:VCALENDAR
PRODID:-//eluceo/ical//2.0/EN
VERSION:2.0
CALSCALE:GREGORIAN
BEGIN:VEVENT
UID:af2e79b16529a972909d808f98b54d68
DTSTAMP:20260423T010710Z
SUMMARY:Wir feiern Weihnachten
DESCRIPTION:Wir feiern Weihnachten!\n\nLiebe rotarische Freundinnen und Fre
 unde\n\nIch lade Euch ganz herzlich zu unserer diesjährigen Weihnachtsfei
 er ein\, welche am Freitag\, 29. November 2013 ab 18.30 Uhr im Waldhaus "S
 unneberg" in Möhlin stattfinden wird. Wegbeschreibung folgt.\n\nWir werde
 n gemeinsam einen gemütlichen Abend drinnen in der Stube oder draussen am
  Lagerfeuer verbringen und uns mit Köstlichkeiten aus Italien verwöhnen 
 lassen.\n\nDie Kosten pro Person betragen ca. CHF 140.00\n\nParkplätze si
 nd gleich beim Waldhaus in ausreichender Zahl vorhanden. Für diejenigen\,
  welche mit dem ÖV anreisen\, wird ein Shuttle Service ab und zum Bahnhof
  Möhlin organisiert.\n\nDresscode: Wir sind im Wald. Es kann kalt werden!
 \n\nIch bitte um Eure Anmeldung bis am 16. November 2013 direkt über die 
 Homepage (www.rc-dreiländereck.ch) oder mit Mail an Frau Michele Meyer (m
 ichele.meyer@gruner.ch)\n\nHerzlich\, rotarisch Adrian
URL:https://rc-dreilaendereck.ch/en/agenda/show/33128
DTSTART;TZID=Europe/Zurich:20131129T183000
DTEND;TZID=Europe/Zurich:20131129T203000
LOCATION:Waldhaus &quot\;Sunneberg&quot\; in Möhlin
CATEGORIES:Rotary
END:VEVENT
BEGIN:VTIMEZONE
TZID:Europe/Zurich
BEGIN:STANDARD
DTSTART:20131129T183000
TZNAME:CET
TZOFFSETTO:+0100
TZOFFSETFROM:+0100
END:STANDARD
END:VTIMEZONE
END:VCALENDAR
