BEGIN:VCALENDAR
PRODID:-//eluceo/ical//2.0/EN
VERSION:2.0
CALSCALE:GREGORIAN
BEGIN:VEVENT
UID:3a898cd18db48455ad119c536a6459cf
DTSTAMP:20260423T024731Z
SUMMARY:Aktuelle Fragen der Aussenpolitik - Dreiländereck-Anlass
DESCRIPTION:gemeinsamen Anlass mit unserem „Götti-Klub“ Basel-Riehen\,
  dem RC Basel-Spalen\, RC Lörrach-Grenzach und RC Saint Louis-Huningue\n\
 nSeparate Einladung mit Anmeldeformular folgt\nWebsite: http://www.safran-
 zunft.ch/de/bankette/festsaal_stuben/zunftsaal/\nSpeaker(s): Bundesrätin 
 Eveline Widmer-Schlumpf
URL:https://rc-dreilaendereck.ch/en/agenda/show/33127
DTSTART;TZID=Europe/Zurich:20131121T183000
DTEND;TZID=Europe/Zurich:20131121T183000
LOCATION:Saal Safran-Zunft
CATEGORIES:Rotary
END:VEVENT
BEGIN:VTIMEZONE
TZID:Europe/Zurich
BEGIN:STANDARD
DTSTART:20131121T183000
TZNAME:CET
TZOFFSETTO:+0100
TZOFFSETFROM:+0100
END:STANDARD
END:VTIMEZONE
END:VCALENDAR
