BEGIN:VCALENDAR
PRODID:-//eluceo/ical//2.0/EN
VERSION:2.0
CALSCALE:GREGORIAN
BEGIN:VEVENT
UID:b041974e0c07d0b613084a1a39f7dab5
DTSTAMP:20260422T185806Z
SUMMARY:Chancen und Grenzen von Seelsorge im Spital
DESCRIPTION:Welche Hilfe bekommen besorgte Patienten im Spital? Was \, wenn
  sie an ihrem Leiden verzweifeln oder der Tod nahe steht?\nSpeaker(s): Jü
 rg Merz\, Seelsorger am Universitätsspital Basel
URL:https://rc-dreilaendereck.ch/en/agenda/show/28872
DTSTART;TZID=Europe/Zurich:20130226T120000
DTEND;TZID=Europe/Zurich:20130226T120000
LOCATION:Restaurant Schlüsselzunft
CATEGORIES:Rotary
END:VEVENT
BEGIN:VTIMEZONE
TZID:Europe/Zurich
BEGIN:STANDARD
DTSTART:20130226T120000
TZNAME:CET
TZOFFSETTO:+0100
TZOFFSETFROM:+0100
END:STANDARD
END:VTIMEZONE
END:VCALENDAR
