BEGIN:VCALENDAR
PRODID:-//eluceo/ical//2.0/EN
VERSION:2.0
CALSCALE:GREGORIAN
BEGIN:VEVENT
UID:16c8630b02915cd3a9975aaa7275110f
DTSTAMP:20260423T011135Z
SUMMARY:3. Vorstandsitzung
DESCRIPTION:
URL:https://rc-dreilaendereck.ch/en/agenda/show/28871
DTSTART;TZID=Europe/Zurich:20130212T110000
DTEND;TZID=Europe/Zurich:20130212T110000
LOCATION:Restaurant Schlüsselzunft
CATEGORIES:Rotary
END:VEVENT
BEGIN:VTIMEZONE
TZID:Europe/Zurich
BEGIN:STANDARD
DTSTART:20130212T110000
TZNAME:CET
TZOFFSETTO:+0100
TZOFFSETFROM:+0100
END:STANDARD
END:VTIMEZONE
END:VCALENDAR
