BEGIN:VCALENDAR
PRODID:-//eluceo/ical//2.0/EN
VERSION:2.0
CALSCALE:GREGORIAN
BEGIN:VEVENT
UID:f87e35e2f1f619b46413dd98631c5be3
DTSTAMP:20260422T215139Z
SUMMARY:Plauderlunch (Basler Fasnacht)
DESCRIPTION:
URL:https://rc-dreilaendereck.ch/en/agenda/show/28870
DTSTART;TZID=Europe/Zurich:20130219T120000
DTEND;TZID=Europe/Zurich:20130219T120000
LOCATION:Restaurant Schlüsselzunft
CATEGORIES:Rotary
END:VEVENT
BEGIN:VTIMEZONE
TZID:Europe/Zurich
BEGIN:STANDARD
DTSTART:20130219T120000
TZNAME:CET
TZOFFSETTO:+0100
TZOFFSETFROM:+0100
END:STANDARD
END:VTIMEZONE
END:VCALENDAR
