BEGIN:VCALENDAR
PRODID:-//eluceo/ical//2.0/EN
VERSION:2.0
CALSCALE:GREGORIAN
BEGIN:VEVENT
UID:0b99c4014c1ad7f75fd2d048d5714323
DTSTAMP:20260422T190235Z
SUMMARY:Die Premiere - aus der Sicht eines Musikers
DESCRIPTION:La Cetra vor der Premiere von Händels "Ariodante" am Theater B
 asel\nSpeaker(s): Katharina Heutjer\, Konzertmeisterin\, Eva Saladin\, Vio
 line\, und Daniele Caminiti\, Theorbe
URL:https://rc-dreilaendereck.ch/en/agenda/show/22031
DTSTART;TZID=Europe/Zurich:20120508T120000
DTEND;TZID=Europe/Zurich:20120508T120000
LOCATION:Restaurant Schlüsselzunft
CATEGORIES:Rotary
END:VEVENT
BEGIN:VTIMEZONE
TZID:Europe/Zurich
BEGIN:DAYLIGHT
DTSTART:20120508T120000
TZNAME:CEST
TZOFFSETTO:+0200
TZOFFSETFROM:+0200
END:DAYLIGHT
END:VTIMEZONE
END:VCALENDAR
