BEGIN:VCALENDAR
PRODID:-//eluceo/ical//2.0/EN
VERSION:2.0
CALSCALE:GREGORIAN
BEGIN:VEVENT
UID:2f7db52b4389685e80a2cba5f67a0bd6
DTSTAMP:20260425T155116Z
SUMMARY:Plauderlunch
DESCRIPTION:
URL:https://rc-dreilaendereck.ch/en/agenda/show/19328
DTSTART;TZID=Europe/Zurich:20111004T120000
DTEND;TZID=Europe/Zurich:20111004T140000
LOCATION:Restaurant Schlüsselzunft
CATEGORIES:Rotary
END:VEVENT
BEGIN:VTIMEZONE
TZID:Europe/Zurich
BEGIN:DAYLIGHT
DTSTART:20111004T120000
TZNAME:CEST
TZOFFSETTO:+0200
TZOFFSETFROM:+0200
END:DAYLIGHT
END:VTIMEZONE
END:VCALENDAR
