BEGIN:VCALENDAR
PRODID:-//eluceo/ical//2.0/EN
VERSION:2.0
CALSCALE:GREGORIAN
BEGIN:VEVENT
UID:91cc58c2bbf3587d5a6f882d06d12352
DTSTAMP:20260420T142254Z
SUMMARY:DentAgeCare: Lebensqualität im Alter dank Freude am Essen
DESCRIPTION:Website: http://schluesselzunft.ch/\nSpeaker(s): Felix Kunz\, M
 Sc Integrierte Gerontologie
URL:https://rc-dreilaendereck.ch/en/agenda/show/158949
DTSTART;TZID=Europe/Zurich:20240402T121500
DTEND;TZID=Europe/Zurich:20240402T133000
LOCATION:Restaurant Schlüsselzunft\, Freie Strasse 25\, 4001 Basel
CATEGORIES:Rotary
END:VEVENT
BEGIN:VTIMEZONE
TZID:Europe/Zurich
BEGIN:DAYLIGHT
DTSTART:20240402T121500
TZNAME:CEST
TZOFFSETTO:+0200
TZOFFSETFROM:+0200
END:DAYLIGHT
END:VTIMEZONE
END:VCALENDAR
