BEGIN:VCALENDAR
PRODID:-//eluceo/ical//2.0/EN
VERSION:2.0
CALSCALE:GREGORIAN
BEGIN:VEVENT
UID:c12ecc5dd7eb74dd07c54c1771c41fa1
DTSTAMP:20260420T142908Z
SUMMARY:Referat: SAO Association und die Situation von Frauen auf der Fluch
 t
DESCRIPTION:Website: http://schluesselzunft.ch/\nSpeaker(s): Rotarierin Raq
 uel Herzog ist Gründerin von SAO Association\, welche vor Ort in Griec
 henland geflüchtete Frauen unterstützt\, die in Lagern unter erschre
 ckenden Bedingungen leben müssen. Für ihren humanitären Einsatz für sy
 rische Flüchtlinge auf der Insel Lesbos wurde Raquel Herzog von ihre
 m Club\, RC Üetliberg\, als «Paul Harris Fellow» anerkannt (SAO Associa
 tion und die Situation von Frauen auf der Flucht (rotary-wil.ch)
URL:https://rc-dreilaendereck.ch/en/agenda/show/158946
DTSTART;TZID=Europe/Zurich:20240312T121500
DTEND;TZID=Europe/Zurich:20240312T133000
LOCATION:Restaurant Schlüsselzunft\, Freie Strasse 25\, 4001 Basel
CATEGORIES:Rotary
END:VEVENT
BEGIN:VTIMEZONE
TZID:Europe/Zurich
BEGIN:STANDARD
DTSTART:20240312T121500
TZNAME:CET
TZOFFSETTO:+0100
TZOFFSETFROM:+0100
END:STANDARD
END:VTIMEZONE
END:VCALENDAR
