BEGIN:VCALENDAR
PRODID:-//eluceo/ical//2.0/EN
VERSION:2.0
CALSCALE:GREGORIAN
BEGIN:VEVENT
UID:06204deca74460828c70b373abc1d405
DTSTAMP:20260420T142553Z
SUMMARY:Referat: Fachkräftemangel – Zeit für neue Arbeitsmodelle?
DESCRIPTION:Website: http://schluesselzunft.ch/\nSpeaker(s): Daniela Visint
 in ist Spezialistin für Arbeitskräfte ab 50 und eine tolle Referentin.
URL:https://rc-dreilaendereck.ch/en/agenda/show/158945
DTSTART;TZID=Europe/Zurich:20240305T121500
DTEND;TZID=Europe/Zurich:20240305T133000
LOCATION:Restaurant Schlüsselzunft\, Freie Strasse 25\, 4001 Basel
CATEGORIES:Rotary
END:VEVENT
BEGIN:VTIMEZONE
TZID:Europe/Zurich
BEGIN:STANDARD
DTSTART:20240305T121500
TZNAME:CET
TZOFFSETTO:+0100
TZOFFSETFROM:+0100
END:STANDARD
END:VTIMEZONE
END:VCALENDAR
