BEGIN:VCALENDAR
PRODID:-//eluceo/ical//2.0/EN
VERSION:2.0
CALSCALE:GREGORIAN
BEGIN:VEVENT
UID:5c16d0c4daa6fc9e40126c0a65e16313
DTSTAMP:20260421T122427Z
SUMMARY:Vortrag 'Das Kundenerlebnis ist das neue Branding - Weiterentwicklu
 ng der Destination Basel'
DESCRIPTION:Website: http://www.stadtkonzeptbasel.ch\nSpeaker(s): Mathias F
 . Böhm\, Geschäftsführer StadtKonzeptBasel\, City Management Basel\, eh
 emals Pro Innerstadt Basel  
URL:https://rc-dreilaendereck.ch/en/agenda/show/139880
DTSTART;TZID=Europe/Zurich:20220614T121500
DTEND;TZID=Europe/Zurich:20220614T133000
LOCATION:Restaurant Schlüsselzunft\, Freie Strasse 25\, 4001 Basel
CATEGORIES:Rotary
END:VEVENT
BEGIN:VTIMEZONE
TZID:Europe/Zurich
BEGIN:DAYLIGHT
DTSTART:20220614T121500
TZNAME:CEST
TZOFFSETTO:+0200
TZOFFSETFROM:+0200
END:DAYLIGHT
END:VTIMEZONE
END:VCALENDAR
