BEGIN:VCALENDAR
PRODID:-//eluceo/ical//2.0/EN
VERSION:2.0
CALSCALE:GREGORIAN
BEGIN:VEVENT
UID:8478358bf7872b3a854c288a451a3892
DTSTAMP:20260423T113040Z
SUMMARY:Partneranlass - Frauenhaus beider Basel
DESCRIPTION:Das Frauenhaus beider Basel wurde im Juni 1981 eröffnet. Es is
 t heute die wichtigste stationäre Einrichtung in der Region für gewaltbe
 troffene Frauen mit und ohne Kinder.\nWebseite: http://frauenhaus-basel.ch
 \nReferenten/innen: Bettina Bühler\, Geschäftsführerin & Sabine Hagenbu
 ch\, Leiterin Fundraising / Kommunikation
URL:https://rc-dreilaendereck.ch/de/agenda/show/87193
DTSTART;TZID=Europe/Zurich:20180918T120000
DTEND;TZID=Europe/Zurich:20180918T120000
LOCATION:Restaurant Schlüsselzunft
CATEGORIES:Rotary
END:VEVENT
BEGIN:VTIMEZONE
TZID:Europe/Zurich
BEGIN:DAYLIGHT
DTSTART:20180918T120000
TZNAME:CEST
TZOFFSETTO:+0200
TZOFFSETFROM:+0200
END:DAYLIGHT
END:VTIMEZONE
END:VCALENDAR
