BEGIN:VCALENDAR
PRODID:-//eluceo/ical//2.0/EN
VERSION:2.0
CALSCALE:GREGORIAN
BEGIN:VEVENT
UID:3dd1ffb4aa0f65a7ebb925b1ac3c792e
DTSTAMP:20260425T134934Z
SUMMARY:Restaurant du Coeur
DESCRIPTION:Mit diesem LUNCH JEDEN ERSTEN DIENSTAG DES MONATS unterstützen
  wir unser Gemeindienst-Schwerpunkt-Projekt SOUP&CHILL.\n\nSeit Öffnung d
 es Lokals als "Restaurant du Coeur" in Anlehnung an die Idee des französ
 ischen Schauspielers\, Humoristen und Sozialaktivisten Coluche (Michel Gé
 rard Joseph Colucci\, 1944-1986) bietet es Montag bis Freitag von 12.00 b
 is 14.00 Uhr einen Mittagstisch an.\nWebseite: http://www.soupandchill.co
 m
URL:https://rc-dreilaendereck.ch/de/agenda/show/64354
DTSTART;TZID=Europe/Zurich:20160802T120000
DTEND;TZID=Europe/Zurich:20160802T120000
LOCATION:Soup & Chill\, Solothurnerstrasse 8\, 4053 Basel
CATEGORIES:Rotary
END:VEVENT
BEGIN:VTIMEZONE
TZID:Europe/Zurich
BEGIN:DAYLIGHT
DTSTART:20160802T120000
TZNAME:CEST
TZOFFSETTO:+0200
TZOFFSETFROM:+0200
END:DAYLIGHT
END:VTIMEZONE
END:VCALENDAR
