BEGIN:VCALENDAR
PRODID:-//eluceo/ical//2.0/EN
VERSION:2.0
CALSCALE:GREGORIAN
BEGIN:VEVENT
UID:607742a83460fc29a124a080137ff3e9
DTSTAMP:20260425T153712Z
SUMMARY:Partneranlass: Kraftwerk Schweiz - Plädoyer für eine Energiewende
  mit Zukunft
DESCRIPTION:ETH-Professor und Unternehmer Anton Gunzinger beschäftigt sic
 h seit Jahren mit dem Thema Energiewende. Er entwirft das Bild einer Schwe
 iz\, wie sie für die kommenden Generationen aussehen könnte.\nGunzinger 
 missfällt\, wie die westlichen Länder – auch die Schweiz – den Rohst
 off Öl ohne Rücksicht auf die übrige Weltbevölkerung verschwenden. Er 
 möchte\, dass unsere Nachfahren dereinst nicht büssen müssen\, sondern 
 weiterhin von unserem Wohlstand profitieren können. Das aber ist – gem
 äss seiner Überzeugung – nur möglich\, wenn unser Wirtschafts- und Ge
 sellschaftsmodell radikal umgebaut wird.\nIn ‹Plan B oder Faktor 10› b
 elegt der Elektroingenieur\, wie die Schweiz ihren Energieverbrauch bei gl
 eichbleibendem Lebensstandard drastisch reduzieren kann. Voraussetzung fü
 r den Wandel ist eine Vollkostenrechnung für Gemeingüter wie Energie\, L
 uft oder öffentlicher Raum. Während heute der Staat einen grossen Teil d
 er Kosten trägt\, die der Individualverkehr verursacht\, müsste morgen j
 eder Einzelne bezahlen\, was er an Rohstoffen\, Strassen oder andern Allge
 meingütern tatsächlich beansprucht. Gemäss Gunzingers Berechnungen müs
 ste in einem solchen System der Liter Benzin fünf- bis sechsmal so viel k
 osten wie heute. Im Bereich der Stromversorgung täte die Schweiz gut dara
 n\, zur Selbstversorgerin zu werden\, d. h. sich unabhängig vom Ausland z
 u machen. Aufgrund der privilegierten geografischen Lage könne sie ihren 
 Energiebedarf mit Wasserkraft\, Photovoltaik und Windkraft zu 100 Prozent 
 selber decken und sogar noch Strom exportieren.\nGunzingers Ideen sind\, s
 o revolutionär und utopisch sie scheinen mögen\, durch Fakten belegt und
  abgestützt von Mitarbeitern\, die mit Superrechnern umgehen können. Das
  Buch ist für Laien\, Fachleute und Entscheidungsträger. Mit anekdotisch
 en Aperçus\, Zitaten und visuellen Intermezzi angereichert\, bietet die L
 ektüre sowohl Infotainment als auch Erkenntnisgewinn.\nMenü: Programm\n\
 n Ab      18.45 Uhr Eintreffen\n            19.00 Uhr Beginn 
 Vortrag\n Ca.    20.00 Uhr Ende Vortrag und anschliessendem Nachtessen
 \n\nKosten: Die Kosten belaufen sich auf Fr. 25.— pro Person\nDas Essen 
 und die Getränke zum Essen werden direkt vom Restaurant am Ende des Abend
 s eingezogen.\n\nBitte um An- oder Abmeldung bis am 01.03.16 mit Angabe f
 ür das Nachtessen Ja / Nein.\nWebseite: https://www.scs.ch/ueber-scs/grue
 nder.html\nReferenten/innen: Prof. Dr. Anton Gunziger\, Verwaltungsratspr
 äsident SCS AG\nLehrbeauftragter an der ETH Zürich für Computer System 
 Architektur
URL:https://rc-dreilaendereck.ch/de/agenda/show/57481
DTSTART;TZID=Europe/Zurich:20160310T184500
DTEND;TZID=Europe/Zurich:20160310T184500
LOCATION:Hotel Restaurant Waldhaus\, In der Hard\, 4127 Birsfelden
CATEGORIES:Rotary
END:VEVENT
BEGIN:VTIMEZONE
TZID:Europe/Zurich
BEGIN:STANDARD
DTSTART:20160310T184500
TZNAME:CET
TZOFFSETTO:+0100
TZOFFSETFROM:+0100
END:STANDARD
END:VTIMEZONE
END:VCALENDAR
