BEGIN:VCALENDAR
PRODID:-//eluceo/ical//2.0/EN
VERSION:2.0
CALSCALE:GREGORIAN
BEGIN:VEVENT
UID:b3a4112d961659589aab37afafc30755
DTSTAMP:20260425T154057Z
SUMMARY:Tiefe Zinsen – Chancen und Risiken für Hauseigentümer
DESCRIPTION:Referenten/innen: Beat Oberlin\, Präsident der Geschäftsleitu
 ng BLKB
URL:https://rc-dreilaendereck.ch/de/agenda/show/57446
DTSTART;TZID=Europe/Zurich:20160223T120000
DTEND;TZID=Europe/Zurich:20160223T120000
LOCATION:Restaurant Schlüsselzunft
CATEGORIES:Rotary
END:VEVENT
BEGIN:VTIMEZONE
TZID:Europe/Zurich
BEGIN:STANDARD
DTSTART:20160223T120000
TZNAME:CET
TZOFFSETTO:+0100
TZOFFSETFROM:+0100
END:STANDARD
END:VTIMEZONE
END:VCALENDAR
