BEGIN:VCALENDAR
PRODID:-//eluceo/ical//2.0/EN
VERSION:2.0
CALSCALE:GREGORIAN
BEGIN:VEVENT
UID:5dde0280dc127b322deb68dc2b5b55b2
DTSTAMP:20260425T154240Z
SUMMARY:Schwerpunkt Philosophie
DESCRIPTION:Referenten/innen: Prof. Dr. Maarten Hoenen\, Vizerektor Lehre u
 nd Entwicklung\, Universität Basel\nProf. für antike und mittelalterlich
 e Philosophie\nDepartement Philosophie und Medienwissenschaft\, Philosophi
 sches Semina
URL:https://rc-dreilaendereck.ch/de/agenda/show/57442
DTSTART;TZID=Europe/Zurich:20160126T120000
DTEND;TZID=Europe/Zurich:20160126T120000
LOCATION:Restaurant Schlüsselzunft
CATEGORIES:Rotary
END:VEVENT
BEGIN:VTIMEZONE
TZID:Europe/Zurich
BEGIN:STANDARD
DTSTART:20160126T120000
TZNAME:CET
TZOFFSETTO:+0100
TZOFFSETFROM:+0100
END:STANDARD
END:VTIMEZONE
END:VCALENDAR
