BEGIN:VCALENDAR
PRODID:-//eluceo/ical//2.0/EN
VERSION:2.0
CALSCALE:GREGORIAN
BEGIN:VEVENT
UID:a25e33a106b43d70b4ae4f69627398b1
DTSTAMP:20260425T155403Z
SUMMARY:INTERNATIONALES PROJEKT: UGANDA - BWINDI COMMUNITY HOSPITAL
DESCRIPTION:Vreni Geissbühler berichtet über die neusten Entwicklungen un
 seres Internationalen Projektes in Uganda  und vom 4. Fistula Camp 2015 
 in Bwindi.\nWebseite: http://www.bwindihospital.com/\nReferenten/innen: V
 reni Geissbühler
URL:https://rc-dreilaendereck.ch/de/agenda/show/54322
DTSTART;TZID=Europe/Zurich:20151215T120000
DTEND;TZID=Europe/Zurich:20151215T120000
LOCATION:Restaurant Schlüsselzunft
CATEGORIES:Rotary
END:VEVENT
BEGIN:VTIMEZONE
TZID:Europe/Zurich
BEGIN:STANDARD
DTSTART:20151215T120000
TZNAME:CET
TZOFFSETTO:+0100
TZOFFSETFROM:+0100
END:STANDARD
END:VTIMEZONE
END:VCALENDAR
