BEGIN:VCALENDAR
PRODID:-//eluceo/ical//2.0/EN
VERSION:2.0
CALSCALE:GREGORIAN
BEGIN:VEVENT
UID:dbd5173384039b0b7ffeef9e2a6f1423
DTSTAMP:20260425T173859Z
SUMMARY:gemeinsamer Lunch mit RC Essen-Ruhr in Basel
DESCRIPTION:Der RC Essen-Ruhr ist vom 08. bis 10. Mai 2015 auf einer Clubre
 ise im Dreiländereck und besucht die Städte Basel\, Freiburg und Colmar.
  \n\nNach dem Besuch der Gauguin-Ausstellung in der Fondation Beyeler ist
  ein gemeinsamer Lunch in unserem Clublokal geplant.\nWebseite: http://www
 .essen-ruhr.rotary1900.de//\nReferenten/innen: Gustav Dobos\, Präsident R
 otary Club Essen-Ruhr
URL:https://rc-dreilaendereck.ch/de/agenda/show/46197
DTSTART;TZID=Europe/Zurich:20150508T123000
DTEND;TZID=Europe/Zurich:20150508T123000
LOCATION:Restaurant Schlüsselzunft
CATEGORIES:Rotary
END:VEVENT
BEGIN:VTIMEZONE
TZID:Europe/Zurich
BEGIN:DAYLIGHT
DTSTART:20150508T123000
TZNAME:CEST
TZOFFSETTO:+0200
TZOFFSETFROM:+0200
END:DAYLIGHT
END:VTIMEZONE
END:VCALENDAR
